BEGIN:VCALENDAR
VERSION:2.0
PRODID:-//Rock The House LIVE! - ECPv5.3.2.1//NONSGML v1.0//EN
CALSCALE:GREGORIAN
METHOD:PUBLISH
X-WR-CALNAME:Rock The House LIVE!
X-ORIGINAL-URL:https://rockthehouselive.com
X-WR-CALDESC:Events for Rock The House LIVE!
BEGIN:VTIMEZONE
TZID:America/New_York
BEGIN:DAYLIGHT
TZOFFSETFROM:-0500
TZOFFSETTO:-0400
TZNAME:EDT
DTSTART:20260308T070000
END:DAYLIGHT
BEGIN:STANDARD
TZOFFSETFROM:-0400
TZOFFSETTO:-0500
TZNAME:EST
DTSTART:20261101T060000
END:STANDARD
END:VTIMEZONE
BEGIN:VEVENT
DTSTART;TZID=America/New_York:20260822T210000
DTEND;TZID=America/New_York:20260823T000000
DTSTAMP:20260425T070356
CREATED:20260421T180448Z
LAST-MODIFIED:20260421T180448Z
UID:1066-1787432400-1787443200@rockthehouselive.com
SUMMARY:RTH LIVE! Band @ Wild Eagle Saloon
DESCRIPTION:
URL:https://rockthehouselive.com/events/rth-live-band-wild-eagle-saloon-2/
LOCATION:Wild Eagle Saloon\, 921 Huron Road\, Cleveland\, 44115
CATEGORIES:Bar Gig
ATTACH;FMTTYPE=image/jpeg:https://rockthehouselive.com/wp-content/uploads/2017/11/e8de6d_940f4f87ab5f4c8cbb4cc510c380ede8.jpg
END:VEVENT
END:VCALENDAR