BEGIN:VCALENDAR
VERSION:2.0
PRODID:-//Rock The House LIVE! - ECPv5.3.2.1//NONSGML v1.0//EN
CALSCALE:GREGORIAN
METHOD:PUBLISH
X-WR-CALNAME:Rock The House LIVE!
X-ORIGINAL-URL:https://rockthehouselive.com
X-WR-CALDESC:Events for Rock The House LIVE!
BEGIN:VTIMEZONE
TZID:America/New_York
BEGIN:DAYLIGHT
TZOFFSETFROM:-0500
TZOFFSETTO:-0400
TZNAME:EDT
DTSTART:20260308T070000
END:DAYLIGHT
BEGIN:STANDARD
TZOFFSETFROM:-0400
TZOFFSETTO:-0500
TZNAME:EST
DTSTART:20261101T060000
END:STANDARD
END:VTIMEZONE
BEGIN:VEVENT
DTSTART;TZID=America/New_York:20260715T183000
DTEND;TZID=America/New_York:20260715T203000
DTSTAMP:20260421T193144
CREATED:20251118T210512Z
LAST-MODIFIED:20260127T155609Z
UID:992-1784140200-1784147400@rockthehouselive.com
SUMMARY:RTH LIVE! Band @ Richmond Hts Community Park
DESCRIPTION:
URL:https://rockthehouselive.com/events/rth-live-band-richmond-hts-community-park/
LOCATION:Richmond Heights Community Park\, 27285 Highland Road\, Richmond Heights\, OH\, 44143\, United States
CATEGORIES:Community Celebration
ATTACH;FMTTYPE=image/png:https://rockthehouselive.com/wp-content/uploads/2015/12/akron-cleveland-wedding-band-1.png
END:VEVENT
END:VCALENDAR