BEGIN:VCALENDAR
VERSION:2.0
PRODID:-//Rock The House LIVE! - ECPv5.3.2.1//NONSGML v1.0//EN
CALSCALE:GREGORIAN
METHOD:PUBLISH
X-WR-CALNAME:Rock The House LIVE!
X-ORIGINAL-URL:https://rockthehouselive.com
X-WR-CALDESC:Events for Rock The House LIVE!
BEGIN:VTIMEZONE
TZID:America/New_York
BEGIN:DAYLIGHT
TZOFFSETFROM:-0500
TZOFFSETTO:-0400
TZNAME:EDT
DTSTART:20260308T070000
END:DAYLIGHT
BEGIN:STANDARD
TZOFFSETFROM:-0400
TZOFFSETTO:-0500
TZNAME:EST
DTSTART:20261101T060000
END:STANDARD
END:VTIMEZONE
BEGIN:VEVENT
DTSTART;TZID=America/New_York:20260228T210000
DTEND;TZID=America/New_York:20260301T000000
DTSTAMP:20260423T021302
CREATED:20260127T162608Z
LAST-MODIFIED:20260127T162608Z
UID:1033-1772312400-1772323200@rockthehouselive.com
SUMMARY:RTH LIVE! Band @ Dawg House
DESCRIPTION:
URL:https://rockthehouselive.com/events/rth-live-band-dawg-house-2/
LOCATION:Dawg House Bar & Grill\, 114 Antioch Dr\, Elyria\, OH\, 44035\, United States
CATEGORIES:Bar Gig
ATTACH;FMTTYPE=image/png:https://rockthehouselive.com/wp-content/uploads/2015/12/akron-cleveland-wedding-band-1.png
END:VEVENT
END:VCALENDAR